BEGIN:VCALENDAR
VERSION:2.0
PRODID:-//Rock Lake Grill and RV Resort - ECPv6.15.20//NONSGML v1.0//EN
CALSCALE:GREGORIAN
METHOD:PUBLISH
X-WR-CALNAME:Rock Lake Grill and RV Resort
X-ORIGINAL-URL:https://rocklakegrillandrvresort.com
X-WR-CALDESC:Events for Rock Lake Grill and RV Resort
REFRESH-INTERVAL;VALUE=DURATION:PT1H
X-Robots-Tag:noindex
X-PUBLISHED-TTL:PT1H
BEGIN:VTIMEZONE
TZID:America/Chicago
BEGIN:DAYLIGHT
TZOFFSETFROM:-0600
TZOFFSETTO:-0500
TZNAME:CDT
DTSTART:20250309T080000
END:DAYLIGHT
BEGIN:STANDARD
TZOFFSETFROM:-0500
TZOFFSETTO:-0600
TZNAME:CST
DTSTART:20251102T070000
END:STANDARD
BEGIN:DAYLIGHT
TZOFFSETFROM:-0600
TZOFFSETTO:-0500
TZNAME:CDT
DTSTART:20260308T080000
END:DAYLIGHT
BEGIN:STANDARD
TZOFFSETFROM:-0500
TZOFFSETTO:-0600
TZNAME:CST
DTSTART:20261101T070000
END:STANDARD
BEGIN:DAYLIGHT
TZOFFSETFROM:-0600
TZOFFSETTO:-0500
TZNAME:CDT
DTSTART:20270314T080000
END:DAYLIGHT
BEGIN:STANDARD
TZOFFSETFROM:-0500
TZOFFSETTO:-0600
TZNAME:CST
DTSTART:20271107T070000
END:STANDARD
END:VTIMEZONE
BEGIN:VEVENT
DTSTART;TZID=America/Chicago:20260523T210000
DTEND;TZID=America/Chicago:20260524T210000
DTSTAMP:20260422T174947
CREATED:20260328T053326Z
LAST-MODIFIED:20260328T053326Z
UID:10000009-1779570000-1779656400@rocklakegrillandrvresort.com
SUMMARY:Outdoor Movie
DESCRIPTION:
URL:https://rocklakegrillandrvresort.com/event/outdoor-movie/
END:VEVENT
BEGIN:VEVENT
DTSTART;TZID=America/Chicago:20260523T150000
DTEND;TZID=America/Chicago:20260524T150000
DTSTAMP:20260422T174947
CREATED:20260328T052945Z
LAST-MODIFIED:20260328T052945Z
UID:10000008-1779548400-1779634800@rocklakegrillandrvresort.com
SUMMARY:Meat Raffle
DESCRIPTION:
URL:https://rocklakegrillandrvresort.com/event/meat-raffle/
END:VEVENT
BEGIN:VEVENT
DTSTART;TZID=America/Chicago:20260523T120000
DTEND;TZID=America/Chicago:20260524T140000
DTSTAMP:20260422T174947
CREATED:20260328T052756Z
LAST-MODIFIED:20260328T053109Z
UID:10000007-1779537600-1779631200@rocklakegrillandrvresort.com
SUMMARY:Dollar Draw
DESCRIPTION:
URL:https://rocklakegrillandrvresort.com/event/dollar-draw-3/
END:VEVENT
BEGIN:VEVENT
DTSTART;TZID=America/Chicago:20260523T120000
DTEND;TZID=America/Chicago:20260524T120000
DTSTAMP:20260422T174947
CREATED:20260328T053600Z
LAST-MODIFIED:20260328T053600Z
UID:10000010-1779537600-1779624000@rocklakegrillandrvresort.com
SUMMARY:Sunday - Bags Tournament
DESCRIPTION:
URL:https://rocklakegrillandrvresort.com/event/sunday-bags-tournament/
END:VEVENT
BEGIN:VEVENT
DTSTART;TZID=America/Chicago:20260516T190000
DTEND;TZID=America/Chicago:20260516T210000
DTSTAMP:20260422T174947
CREATED:20260328T052424Z
LAST-MODIFIED:20260328T052424Z
UID:10000006-1778958000-1778965200@rocklakegrillandrvresort.com
SUMMARY:Evening Bingo
DESCRIPTION:
URL:https://rocklakegrillandrvresort.com/event/evening-bingo-2/
END:VEVENT
BEGIN:VEVENT
DTSTART;TZID=America/Chicago:20260516T120000
DTEND;TZID=America/Chicago:20260516T140000
DTSTAMP:20260422T174947
CREATED:20260328T051954Z
LAST-MODIFIED:20260328T051954Z
UID:10000005-1778932800-1778940000@rocklakegrillandrvresort.com
SUMMARY:Dollar Draw
DESCRIPTION:
URL:https://rocklakegrillandrvresort.com/event/dollar-draw-2/
END:VEVENT
BEGIN:VEVENT
DTSTART;TZID=America/Chicago:20260509T110000
DTEND;TZID=America/Chicago:20260510T160000
DTSTAMP:20260422T174947
CREATED:20260328T051543Z
LAST-MODIFIED:20260328T051819Z
UID:10000004-1778324400-1778428800@rocklakegrillandrvresort.com
SUMMARY:Vendor Craft Fair
DESCRIPTION:Sunday Join us for a spectacular Mothers Day Continental Breakfast
URL:https://rocklakegrillandrvresort.com/event/vendor-craft-fair/
END:VEVENT
BEGIN:VEVENT
DTSTART;TZID=America/Chicago:20260509T110000
DTEND;TZID=America/Chicago:20260510T110000
DTSTAMP:20260422T174947
CREATED:20260328T051258Z
LAST-MODIFIED:20260328T051258Z
UID:10000003-1778324400-1778410800@rocklakegrillandrvresort.com
SUMMARY:Mother’s Day Kids Crafts in The Game Room
DESCRIPTION:
URL:https://rocklakegrillandrvresort.com/event/mothers-day-kids-crafts-in-the-game-room/
END:VEVENT
BEGIN:VEVENT
DTSTART;TZID=America/Chicago:20260502T190000
DTEND;TZID=America/Chicago:20260502T210000
DTSTAMP:20260422T174947
CREATED:20260328T050444Z
LAST-MODIFIED:20260328T051120Z
UID:10000002-1777748400-1777755600@rocklakegrillandrvresort.com
SUMMARY:Evening Bingo
DESCRIPTION:
URL:https://rocklakegrillandrvresort.com/event/evening-bingo/
END:VEVENT
BEGIN:VEVENT
DTSTART;TZID=America/Chicago:20260502T120000
DTEND;TZID=America/Chicago:20260502T140000
DTSTAMP:20260422T174947
CREATED:20260328T050225Z
LAST-MODIFIED:20260328T050320Z
UID:10000001-1777723200-1777730400@rocklakegrillandrvresort.com
SUMMARY:Dollar Draw
DESCRIPTION:
URL:https://rocklakegrillandrvresort.com/event/dollar-draw/
END:VEVENT
END:VCALENDAR