BEGIN:VCALENDAR
VERSION:2.0
PRODID:-//Rock Lake Grill and RV Resort - ECPv6.15.20//NONSGML v1.0//EN
CALSCALE:GREGORIAN
METHOD:PUBLISH
X-WR-CALNAME:Rock Lake Grill and RV Resort
X-ORIGINAL-URL:https://rocklakegrillandrvresort.com
X-WR-CALDESC:Events for Rock Lake Grill and RV Resort
REFRESH-INTERVAL;VALUE=DURATION:PT1H
X-Robots-Tag:noindex
X-PUBLISHED-TTL:PT1H
BEGIN:VTIMEZONE
TZID:America/Chicago
BEGIN:DAYLIGHT
TZOFFSETFROM:-0600
TZOFFSETTO:-0500
TZNAME:CDT
DTSTART:20250309T080000
END:DAYLIGHT
BEGIN:STANDARD
TZOFFSETFROM:-0500
TZOFFSETTO:-0600
TZNAME:CST
DTSTART:20251102T070000
END:STANDARD
BEGIN:DAYLIGHT
TZOFFSETFROM:-0600
TZOFFSETTO:-0500
TZNAME:CDT
DTSTART:20260308T080000
END:DAYLIGHT
BEGIN:STANDARD
TZOFFSETFROM:-0500
TZOFFSETTO:-0600
TZNAME:CST
DTSTART:20261101T070000
END:STANDARD
BEGIN:DAYLIGHT
TZOFFSETFROM:-0600
TZOFFSETTO:-0500
TZNAME:CDT
DTSTART:20270314T080000
END:DAYLIGHT
BEGIN:STANDARD
TZOFFSETFROM:-0500
TZOFFSETTO:-0600
TZNAME:CST
DTSTART:20271107T070000
END:STANDARD
END:VTIMEZONE
BEGIN:VEVENT
DTSTART;TZID=America/Chicago:20260502T190000
DTEND;TZID=America/Chicago:20260502T210000
DTSTAMP:20260422T175718
CREATED:20260328T050444Z
LAST-MODIFIED:20260328T051120Z
UID:10000002-1777748400-1777755600@rocklakegrillandrvresort.com
SUMMARY:Evening Bingo
DESCRIPTION:
URL:https://rocklakegrillandrvresort.com/event/evening-bingo/
END:VEVENT
BEGIN:VEVENT
DTSTART;TZID=America/Chicago:20260502T120000
DTEND;TZID=America/Chicago:20260502T140000
DTSTAMP:20260422T175718
CREATED:20260328T050225Z
LAST-MODIFIED:20260328T050320Z
UID:10000001-1777723200-1777730400@rocklakegrillandrvresort.com
SUMMARY:Dollar Draw
DESCRIPTION:
URL:https://rocklakegrillandrvresort.com/event/dollar-draw/
END:VEVENT
END:VCALENDAR